BEGIN:VCALENDAR
VERSION:2.0
PRODID:-//City of Brandon - ECPv6.15.17.1//NONSGML v1.0//EN
CALSCALE:GREGORIAN
METHOD:PUBLISH
X-WR-CALNAME:City of Brandon
X-ORIGINAL-URL:https://brandonms.org
X-WR-CALDESC:Events for City of Brandon
REFRESH-INTERVAL;VALUE=DURATION:PT1H
X-Robots-Tag:noindex
X-PUBLISHED-TTL:PT1H
BEGIN:VTIMEZONE
TZID:America/Chicago
BEGIN:DAYLIGHT
TZOFFSETFROM:-0600
TZOFFSETTO:-0500
TZNAME:CDT
DTSTART:20240310T080000
END:DAYLIGHT
BEGIN:STANDARD
TZOFFSETFROM:-0500
TZOFFSETTO:-0600
TZNAME:CST
DTSTART:20241103T070000
END:STANDARD
BEGIN:DAYLIGHT
TZOFFSETFROM:-0600
TZOFFSETTO:-0500
TZNAME:CDT
DTSTART:20250309T080000
END:DAYLIGHT
BEGIN:STANDARD
TZOFFSETFROM:-0500
TZOFFSETTO:-0600
TZNAME:CST
DTSTART:20251102T070000
END:STANDARD
BEGIN:DAYLIGHT
TZOFFSETFROM:-0600
TZOFFSETTO:-0500
TZNAME:CDT
DTSTART:20260308T080000
END:DAYLIGHT
BEGIN:STANDARD
TZOFFSETFROM:-0500
TZOFFSETTO:-0600
TZNAME:CST
DTSTART:20261101T070000
END:STANDARD
BEGIN:DAYLIGHT
TZOFFSETFROM:-0600
TZOFFSETTO:-0500
TZNAME:CDT
DTSTART:20270314T080000
END:DAYLIGHT
BEGIN:STANDARD
TZOFFSETFROM:-0500
TZOFFSETTO:-0600
TZNAME:CST
DTSTART:20271107T070000
END:STANDARD
END:VTIMEZONE
BEGIN:VEVENT
DTSTART;VALUE=DATE:20260220
DTEND;VALUE=DATE:20260222
DTSTAMP:20260419T071648
CREATED:20250120T182722Z
LAST-MODIFIED:20260114T213248Z
UID:10000010-1771545600-1771718399@brandonms.org
SUMMARY:Princess Ball
DESCRIPTION:The City of Brandon Princess Ball provides girls in K4 through the sixth grade an evening of dancing with their dads\, grandfathers or other significant males\, visiting with friends\, enjoying an assortment of catered foods\, and doing it all within a seasonal\, themed atmosphere. Costumed princesses and pageant winners also attend and interact with the girls throughout the night.
URL:https://brandonms.org/event/princess-ball/
CATEGORIES:Annual Events
ATTACH;FMTTYPE=image/jpeg:https://brandonms.org/wp-content/uploads/2025/01/CoB2026_PrincessBall-1280x720-1.jpg
END:VEVENT
BEGIN:VEVENT
DTSTART;VALUE=DATE:20260213
DTEND;VALUE=DATE:20260215
DTSTAMP:20260419T071648
CREATED:20250120T162217Z
LAST-MODIFIED:20260114T213424Z
UID:10000008-1770940800-1771113599@brandonms.org
SUMMARY:Krewe De Roux
DESCRIPTION:Krewe De Roux is the annual city of Brandon and Rankin Chamber celebration of Mardi Gras. The parade rolls through the streets of downtown Brandon on Friday evening\, which includes a post parade block party. The annual gumbo cook off is held on Saturday at the Brandon Amphitheater. The event includes dozens of gumbo cooking teams\, kids zone\, and a king cake eating contest.
URL:https://brandonms.org/event/krewe-de-roux/
CATEGORIES:Annual Events
ATTACH;FMTTYPE=image/jpeg:https://brandonms.org/wp-content/uploads/2025/01/CoB2026_KrewDeRouxe-1280x720-1.jpg
END:VEVENT
BEGIN:VEVENT
DTSTART;VALUE=DATE:20251121
DTEND;VALUE=DATE:20260104
DTSTAMP:20260419T071648
CREATED:20250120T161852Z
LAST-MODIFIED:20250130T165925Z
UID:10000004-1763683200-1767484799@brandonms.org
SUMMARY:Magic of Lights
DESCRIPTION:Magic of Lights\, produced by Family Entertainment Live\, is a highlight of the city’s holiday celebration\, stretching from November through early January. More than one million festive lights\, dazzling\, eye-popping themed displays\, and a 200-foot Tunnel of Lights illuminate the Brandon Amphitheater grounds as visitors roll through in their vehicles. Free photos with Santa can also be taken at the Jolly Holiday Village.
URL:https://brandonms.org/event/magic-of-lights/
CATEGORIES:Annual Events
ATTACH;FMTTYPE=image/jpeg:https://brandonms.org/wp-content/uploads/2025/01/CoB_MagicofLights-1280x720-1.jpg
END:VEVENT
BEGIN:VEVENT
DTSTART;VALUE=DATE:20250925
DTEND;VALUE=DATE:20250926
DTSTAMP:20260419T071648
CREATED:20250120T162050Z
LAST-MODIFIED:20250523T154257Z
UID:10000006-1758758400-1758844799@brandonms.org
SUMMARY:Brandon High School's Homecoming Parade
DESCRIPTION:Brandon High School’s Homecoming Parade allows the community to rally behind the Bulldog football team on the evening prior to the big game. The procession of floats makes a loop through the heart of Brandon’s Downtown Historic District.
URL:https://brandonms.org/event/brandon-high-schools-homecoming-parade/
CATEGORIES:Annual Events
ATTACH;FMTTYPE=image/jpeg:https://brandonms.org/wp-content/uploads/2025/01/CoB_HomecomingParade-1280x720_Sept5.jpg
END:VEVENT
END:VCALENDAR